BEGIN:VCALENDAR
VERSION:2.0
PRODID:-//Glücksliga Deutschland - ECPv6.15.20//NONSGML v1.0//EN
CALSCALE:GREGORIAN
METHOD:PUBLISH
X-ORIGINAL-URL:https://gluecksliga.com
X-WR-CALDESC:Veranstaltungen für Glücksliga Deutschland
REFRESH-INTERVAL;VALUE=DURATION:PT1H
X-Robots-Tag:noindex
X-PUBLISHED-TTL:PT1H
BEGIN:VTIMEZONE
TZID:Europe/Berlin
BEGIN:DAYLIGHT
TZOFFSETFROM:+0100
TZOFFSETTO:+0200
TZNAME:CEST
DTSTART:20250330T010000
END:DAYLIGHT
BEGIN:STANDARD
TZOFFSETFROM:+0200
TZOFFSETTO:+0100
TZNAME:CET
DTSTART:20251026T010000
END:STANDARD
BEGIN:DAYLIGHT
TZOFFSETFROM:+0100
TZOFFSETTO:+0200
TZNAME:CEST
DTSTART:20260329T010000
END:DAYLIGHT
BEGIN:STANDARD
TZOFFSETFROM:+0200
TZOFFSETTO:+0100
TZNAME:CET
DTSTART:20261025T010000
END:STANDARD
BEGIN:DAYLIGHT
TZOFFSETFROM:+0100
TZOFFSETTO:+0200
TZNAME:CEST
DTSTART:20270328T010000
END:DAYLIGHT
BEGIN:STANDARD
TZOFFSETFROM:+0200
TZOFFSETTO:+0100
TZNAME:CET
DTSTART:20271031T010000
END:STANDARD
END:VTIMEZONE
BEGIN:VEVENT
DTSTART;TZID=Europe/Berlin:20260919T090000
DTEND;TZID=Europe/Berlin:20260919T170000
DTSTAMP:20260422T123619
CREATED:20260326T111234Z
LAST-MODIFIED:20260403T070952Z
UID:2606-1789808400-1789837200@gluecksliga.com
SUMMARY:Glücksliga Cup 2026
DESCRIPTION:Das Jahresevent der Glücksliga!\n\n\n\n\n\n\n\n\nSamstag\, 19.09.2026\n\n\n\nca. 10 bis 18 Uhr (ein konkreter Zeitplan folgt noch)\n\n\n\nPHOENIX CONTACT ArenaBunsenweg 3932657 Lemgo\n\n\n\nJetzt anmelden!\n\n\n\n\n\n\n\n\nFreut euch auf das Jahresevent der Glücksliga – den Glücksliga Cup 2026! \n\n\n\nDieses besondere Turnier\, bei dem die Leidenschaft und Freude am Handball spielen – ganz ohne Leistungsanspruch – im Mittelpunkt stehen\, wird von der Glücksliga wie auch im letzten Jahr in der PHOENIX CONTACT arena\, der Heimspielstätte des Bundesligisten TBV Lemgo Lippe\, ausgerichtet.Wir freuen uns auf alle teilnehmenden Glücksteams mit ihren Familien und Freunden sowie auf Fans\, Förderer und Sponsoren! Es erwartet euch ein spannender Turniertag inklusive Rahmenprogramm. Freut euch neben dem Handball auf Bastel- und Malstationen\, Torwandwerfen\, Walkingacts\, Handballparcours\, Kinderdisko\, eine Autogrammstunde und weitere Überraschungen. Kommt vorbei und genießt einen unvergesslichen Handballtag beim Glücksliga Cup 2026! \n\n\n\n\n\n\n\n\nJetzt anmelden!\nDie Anmeldung läuft in diesem Jahr erstmals so\, dass wir euch die Tickets direkt anbieten.Eure Beteiligung beträgt 10\,00 EUR pro Person (für Spieler:innen (auch Geschwisterkinder sind immer herzlich Willkommen) sowie Trainer:innen). Darin enthalten ist wie gewohnt ein Trainershirt bzw. für Spieler:innen ein Trikotsatz der jeweiligen Saison.Zusätzlich können Marken für den Catering-Bereich (Essen & Getränke) zur Mittagszeit im Voraus erworben werden. Diese gelten für Trainer:innen\, Spieler:innen und Begleitpersonen und kosten ebenfalls jeweils 10\,00 EUR. Der Vorverkauf hilft uns bei der besseren Kalkulation und Kapazitätsplanung im Tagesablauf. Bitte beachtet\, dass hier ausschließlich das Mittagsangebot – sprich das gemeinsame Mittagessen gemeint ist. Darüber hinaus wird auch wie im letzten Jahr der Caterer der PHOENIX CONTACT arena vor Ort sein und ein Getränke- und Essensangebot bereitstellen. Auf Auswahl und Preisgestaltung hat die Glücksliga keinen Einfluss. \n\n\n\nHier geht es direkt zur Anmeldung! \n\n\n\n	\n        JavaScript is disabled in your browser. To access our ticket shop without JavaScript\, please click here.	\n\n\n\n\n\nTurniermodus\nUm euch in Teams einzuteilen\, fragen wir bei der Anmeldung ab\, ob ihr das Turnier als Mini- oder Maximaster spielen wollt\, wir teilen eure Teams dann entsprechend ein – natürlich bleiben Minis & Maxis eines Vereins dabei zusammen. Seid ihr aber nicht genug für ein Team\, legen wir euch auch gerne mit einem anderen Verein zusammen. Wir achten je Team selbstverständlich auf ausreichend Auswechselspieler\, sodass jeder auf seine Spiel- und Pausenzeit kommt. \n\n\n\nWer spielt im Mini-Bereich: „jüngste Handballanfänger\, Fokus auf Spaß und erste Spielerfahrungen“– Anzahl Spieler:innen: 5 pro Team (4 x Feld + 1 x Tor)\, Wechsel jederzeit\, kleines Querfeld– Spielform: mehr Schritte und Prellen erlaubt\, Würfe näher am Tor erlaubt– Trainerrolle: aktive Unterstützung im Spiel – helfen und begleiten \n\n\n\nWer spielt im Maxi-Bereich: „etwas ältere/erfahrenere Kinder\, erste Handballregeln“– Anzahl Spieler:innen: 5 pro Team (4 x Feld + 1 x Tor)\, Wechsel jederzeit\, etwas größeres Querfeld– Spielform: Orientierung an der 3-Schritte-Regel\, 4–5 toleriert\, leichte Abwehr und Pässe abfangen erlaubt\, Würfe von 6m-Linie– Trainerrolle: wenig Eingreifen\, kurze Hinweise\, selbstständiges Spielen fördern \n\n\n\n\nProgramm & Tagesablauf\nBleibt gespannt ;) \n\n\n\n\nAllgemeine Infos\n\nAnreise & Unterkunft\n\nIhr reist individuell an\, aber wir helfen euch gerne bei der Hotelfindung – schaut einfach in die Auswahl im Bereich „Unterkünfte“.\n\n\n\nDie Halle öffnet um 9.00 Uhr (Bunsenstr. 39\, 32657 Lemgo).\n\n\n\nParkplätze befinden sich direkt neben der Arena im Campus Parkhaus (Johannes-Schuchen-Str.\, 32657 Lemgo).\n\n\n\nBusparkplätze gibt es direkt an der Arena hinter der Halle – dort\, wo sonst die Bundesligisten parken.\n\n\n\n\n\nTurnier\n\nJede:r Trainer:in enthält ein Glücksliga Trainershirt der Saison (10\,00 EUR pro Person).\n\n\n\nJede:r Spieler:in enthält ein Glücksliga Saisontrikot-Satz (Trikot & Hose für 10\,00 EUR pro Person) – Geschwisterkinder sind immer herzlich Willkommen.\n\n\n\nJedes Team erhält seinen eigenen\, festen Host als Ansprechpartner:in.\n\n\n\nJedes Team spielt ca. 4 Spiele in seiner Klasse – Mini & Maximaster.\n\nWer spielt im Mini-Bereich: „jüngste Handballanfänger\, Fokus auf Spaß und erste Spielerfahrungen“– Anzahl Spieler:innen: 5 pro Team (4 x Feld + 1 x Tor)\, Wechsel jederzeit\, kleines Querfeld– Spielform: mehr Schritte und Prellen erlaubt\, Würfe näher am Tor erlaubt– Trainerrolle: aktive Unterstützung im Spiel – helfen und begleiten\n\n\n\nWer spielt im Maxi-Bereich: „etwas ältere/erfahrenere Kinder\, erste Handballregeln“– Anzahl Spieler:innen: 5 pro Team (4 x Feld + 1 x Tor)\, Wechsel jederzeit\, etwas größeres Querfeld– Spielform: Orientierung an der 3-Schritte-Regel\, 4–5 toleriert\, leichte Abwehr und Pässe abfangen erlaubt\, Würfe von 6m-Linie– Trainerrolle: wenig Eingreifen\, kurze Hinweise\, selbstständiges Spielen fördern\n\n\n\n\n\n\n\nVerpflegung\n\nDas Mittagessen (Essen & Getränke) kann im separaten Cateringbereich in Anspruch genommen werden (bitte schon jetzt mit bestellen – 10\,00 EUR pro Person).\n\n\n\nDer Caterer der PHOENIX CONTACT arena sorgt ganztags für das leibliche Wohl (die Preisgestaltung liegt in der Hand des Caterers).\n\n\n\n\n\nFreut euch auf ein attraktives Rahmenprogramm\, spannende Partnerpräsentationen und tolles Merchandising.\n\n\n\nDas Event endet gegen 16 Uhr – wie gewohnt mit Luftballons und Konfetti\n\n\n\n\n\nUnterkünfte\nJugendherbergen\n\n\n\nwww.jugendherberge.de \n\n\n\nDJH Detmold (13 km) Schirrmannstr. 4932756 Detmold05231 24739 \n\n\n\nDJH Bielefeld (35 km) Hermann-Kleinewächter-Str. 1 33602 Bielefeld 0521 522050  \n\n\n\nDJH Paderborn (45 km) Meinwerkstr. 16 33098 Paderborn 05251 22056  \n\n\n\nHotels\n\n\n\nHotel Annenhof (3 km) Breite Str. 10-14 32657 Lemgo 05261 7799890  \n\n\n\nHotel Stadtpalais (2 km) Papenstr. 24 32657 Lemgo 05261 258900  \n\n\n\nLGO Hotel (5 km) Liemer Weg 78 32657 Lemgo 05261 258900  \n\n\n\nBest Western Plus Hotel (15 km) Osterstr. 52 32105 Bad Salzuflen 05222 983880 \n\n\n\n\n\nIhr habt Fragen oder Anmerkungen? Kontakt uns gerne unter info@gluecksliga.com!
URL:https://gluecksliga.com/veranstaltungen/gluecksliga-cup-2026/
ATTACH;FMTTYPE=image/jpeg:https://gluecksliga.com/wp-content/uploads/2026/03/GluecksligacupDSC_0839-1-scaled.jpg
END:VEVENT
END:VCALENDAR