BEGIN:VCALENDAR
VERSION:2.0
PRODID:-//Glücksliga Deutschland - ECPv6.15.20//NONSGML v1.0//EN
CALSCALE:GREGORIAN
METHOD:PUBLISH
X-ORIGINAL-URL:https://gluecksliga.com
X-WR-CALDESC:Veranstaltungen für Glücksliga Deutschland
REFRESH-INTERVAL;VALUE=DURATION:PT1H
X-Robots-Tag:noindex
X-PUBLISHED-TTL:PT1H
BEGIN:VTIMEZONE
TZID:Europe/Berlin
BEGIN:DAYLIGHT
TZOFFSETFROM:+0100
TZOFFSETTO:+0200
TZNAME:CEST
DTSTART:20250330T010000
END:DAYLIGHT
BEGIN:STANDARD
TZOFFSETFROM:+0200
TZOFFSETTO:+0100
TZNAME:CET
DTSTART:20251026T010000
END:STANDARD
BEGIN:DAYLIGHT
TZOFFSETFROM:+0100
TZOFFSETTO:+0200
TZNAME:CEST
DTSTART:20260329T010000
END:DAYLIGHT
BEGIN:STANDARD
TZOFFSETFROM:+0200
TZOFFSETTO:+0100
TZNAME:CET
DTSTART:20261025T010000
END:STANDARD
BEGIN:DAYLIGHT
TZOFFSETFROM:+0100
TZOFFSETTO:+0200
TZNAME:CEST
DTSTART:20270328T010000
END:DAYLIGHT
BEGIN:STANDARD
TZOFFSETFROM:+0200
TZOFFSETTO:+0100
TZNAME:CET
DTSTART:20271031T010000
END:STANDARD
END:VTIMEZONE
BEGIN:VEVENT
DTSTART;TZID=Europe/Berlin:20260704T110000
DTEND;TZID=Europe/Berlin:20260704T170000
DTSTAMP:20260420T095719
CREATED:20260209T165031Z
LAST-MODIFIED:20260213T081407Z
UID:2514-1783162800-1783184400@gluecksliga.com
SUMMARY:Glücksliga Masters - Dortmund/Brechten
DESCRIPTION:Samstag\, 04.07.2026\n\n\n\nab 11 Uhr\n\n\n\nDortmund / Brechten\n\n\n\n\nUnterstützt durch  \n\n\n\n\n\n\n\n\n\nVeranstalter \n\n\n\n\n\n\n\n\n\n\n\nErlebt einen unvergesslichen Tag voller Glücksmomente!
URL:https://gluecksliga.com/veranstaltungen/gluecksliga-masters-dortmund-brechten/
END:VEVENT
END:VCALENDAR