BEGIN:VCALENDAR
VERSION:2.0
PRODID:-//Glücksliga Deutschland - ECPv6.15.20//NONSGML v1.0//EN
CALSCALE:GREGORIAN
METHOD:PUBLISH
X-ORIGINAL-URL:https://gluecksliga.com
X-WR-CALDESC:Veranstaltungen für Glücksliga Deutschland
REFRESH-INTERVAL;VALUE=DURATION:PT1H
X-Robots-Tag:noindex
X-PUBLISHED-TTL:PT1H
BEGIN:VTIMEZONE
TZID:Europe/Berlin
BEGIN:DAYLIGHT
TZOFFSETFROM:+0100
TZOFFSETTO:+0200
TZNAME:CEST
DTSTART:20230326T010000
END:DAYLIGHT
BEGIN:STANDARD
TZOFFSETFROM:+0200
TZOFFSETTO:+0100
TZNAME:CET
DTSTART:20231029T010000
END:STANDARD
BEGIN:DAYLIGHT
TZOFFSETFROM:+0100
TZOFFSETTO:+0200
TZNAME:CEST
DTSTART:20240331T010000
END:DAYLIGHT
BEGIN:STANDARD
TZOFFSETFROM:+0200
TZOFFSETTO:+0100
TZNAME:CET
DTSTART:20241027T010000
END:STANDARD
BEGIN:DAYLIGHT
TZOFFSETFROM:+0100
TZOFFSETTO:+0200
TZNAME:CEST
DTSTART:20250330T010000
END:DAYLIGHT
BEGIN:STANDARD
TZOFFSETFROM:+0200
TZOFFSETTO:+0100
TZNAME:CET
DTSTART:20251026T010000
END:STANDARD
END:VTIMEZONE
BEGIN:VEVENT
DTSTART;TZID=Europe/Berlin:20240921T100000
DTEND;TZID=Europe/Berlin:20240921T180000
DTSTAMP:20260421T075204
CREATED:20240516T143226Z
LAST-MODIFIED:20250822T091142Z
UID:1572-1726912800-1726941600@gluecksliga.com
SUMMARY:hummel Glücksliga Cup
DESCRIPTION:Samstag\, 21.09.2024\n\n\n\n10 bis 18 Uhr\n\n\n\nSeidenstickerhalle BielefeldWerner-Bock-Straße 3533602 Bielefeld\n\n\n\n\nUnterstützt durch unsere Partner \n\n\n\n\n\n\n\n\n\n\n\n\n\nFörderer \n\n\n\n\n\n\n\n\n\n\n\nDas Jahresevent der Glücksliga!\n\n\n\nFreut euch auf das Jahresevent der Glücksliga – den hummel Glücksliga Cup 2024! Dieses besondere Turnier wird etwa 20 Teams mit über 250 Kindern begrüßen\, die alle mit Leidenschaft und Freude Handball spielen\, ganz ohne Leistungsanspruch. \n\n\n\nDer Cup wird von der Glücksliga in Zusammenarbeit mit unserem Co-Gastgeber TSG Altenhagen-Heepen Bielefeld ausgerichtet. Nach einem Tag voller spannender Spiele und viel Spaß\, erwartet euch als krönender Abschluss ein Drittligaspiel. \n\n\n\nKommt vorbei und genießt einen unvergesslichen Handballtag beim Glücksliga Cup 2024! \n\n\n\nZeitplan:\n\n\n\n\n10 Uhr: Einlauf der Teams\n\n\n\n13 Uhr: Pausenshow\n\n\n\n15.30 Uhr: Siegerehrung\n\n\n\n\nInformationen für teilnehmende Teams:\n\n\n\n\nIhr reist individuell an\, aber wir helfen euch gerne bei der Hotelfindung.\n\n\n\nDie Halle öffnet um 9 Uhr.\n\n\n\nJedes Team erhält seinen eigenen\, festen Host.\n\n\n\nDas Mittagessen für die Teilnehmer:innen kostet 10 Euro pro Spieler:in. Ansonsten sorgen Imbissstände für euer leibliches Wohl.\n\n\n\nFreut euch auf ein attraktives Rahmenprogramm\, spannende Partnerpräsentationen und tolles Merchandising. Außerdem gibt es eine Autogrammstunde.\n\n\n\nDas Event endet gegen 16 Uhr.
URL:https://gluecksliga.com/veranstaltungen/hummel-gluecksliga-cup/
END:VEVENT
END:VCALENDAR